BEGIN:VCALENDAR
VERSION:2.0
PRODID:-//eventon.com NONSGML v1.0//EN
CALSCALE:GREGORIAN
METHOD:PUBLISH
BEGIN:VEVENT
UID:69e4eb2290476
DTSTAMP:20260419T144802Z
DTSTART:20241017T200000Z
DTEND:20241017T210000Z
LOCATION:https://uhc.webex.com/uhc/onstage/g.php?MTID=e6f5826354ce89c953b15abaf71d82e9a
SUMMARY:UHC Medicare Advantage PPO for Retirees 65+
DESCRIPTION:Presenter Name: Monica Inocencio Presenter Email: monica_inocen
 cio@uhc.com\nhttps://benefits.smc-hr.org/events/uhc-medicare-advantage-ppo-
 for-retirees-65-2/var/event_access
URL:https://benefits.smc-hr.org/events/uhc-medicare-advantage-ppo-for-retirees-65-2/var/event_access
END:VEVENT
END:VCALENDAR