BEGIN:VCALENDAR
VERSION:2.0
PRODID:-//eventon.com NONSGML v1.0//EN
CALSCALE:GREGORIAN
METHOD:PUBLISH
BEGIN:VEVENT
UID:69e5e05443661
DTSTAMP:20260420T081412Z
DTSTART:20241011T170000Z
DTEND:20241011T180000Z
LOCATION:https://uhc.webex.com/mw3300/mywebex/default.do?nomenu=true&siteurl=uhc&service=6&rnd=0.8184439431290182&main_url=httpsuhc.webex.comec3300eventcentereventeventAction.dotheActiondetailEMK4832534b000000076d179dbf5913d6ff8af163e243db8a5a3fea50e45f72f16614bbffba0ca1dde1siteurluhcconfViewID610572426199272914encryptTicketSDJTSwAAAAdRU2OEdoVLIrNgS7KgaPGnRY1viiVEJcGMtNTYsZuJ1w2
SUMMARY:UHC Medicare Advantage PPO for Retirees 65+
DESCRIPTION:Presenter Name: Monica Inocencio Presenter Email: monica_inocen
 cio@uhc.com\nhttps://benefits.smc-hr.org/events/uhc-medicare-advantage-ppo-
 for-retirees-65/var/event_access
URL:https://benefits.smc-hr.org/events/uhc-medicare-advantage-ppo-for-retirees-65/var/event_access
END:VEVENT
END:VCALENDAR