BEGIN:VCALENDAR
VERSION:2.0
PRODID:-//eventon.com NONSGML v1.0//EN
CALSCALE:GREGORIAN
METHOD:PUBLISH
BEGIN:VEVENT
UID:69e5e00814141
DTSTAMP:20260420T081256Z
DTSTART:20231101T193000Z
DTEND:20231101T200000Z
LOCATION:https://protect-us.mimecast.com/s/MYDkC1wpG1cr6P2lCLgDZK
SUMMARY:Claremont EAP
DESCRIPTION:Microsoft Teams meeting Join on your computer\,  mobile app or 
 room device Click here to join the meeting Meeting ID: 290 632 683 086Passc
 ode: KMaRZT\nhttps://benefits.smc-hr.org/events/claremont-eap/var/event_acc
 ess
URL:https://benefits.smc-hr.org/events/claremont-eap/var/event_access
END:VEVENT
END:VCALENDAR