BEGIN:VCALENDAR
VERSION:2.0
PRODID:-//eventon.com NONSGML v1.0//EN
CALSCALE:GREGORIAN
METHOD:PUBLISH
BEGIN:VEVENT
UID:69e733c6aeee3
DTSTAMP:20260421T082230Z
DTSTART:20231023T190000Z
DTEND:20231023T193000Z
LOCATION:https://cigna.webex.com/cigna/j.php?MTID=m6fd8ce985b7c147ad9bd26f4834344ec
SUMMARY:Cigna Dental Plans for Retirees
DESCRIPTION:Join webinar More ways to join: Join from the webinar linkhttps
 ://cigna.webex.com/cigna/j.php?MTID=m6fd8ce985b7c147ad9bd26f4834344ec Join 
 by the webinar numberWebinar number (access code): 179 432 1768Webinar pass
 word: Welcome1023 (93526631 from phones and video systems) Tap to join from
  a mobile device (attendees only)+1-650-479-3208\, \, 1794321768#93526631# 
 United States Toll1-844-621-3956\, \, 1794321768#93526631# United States To
 ll FreeSome mobile devices may ask[..]\nhttps://benefits.smc-hr.org/events/
 cigna-dental-plans-for-retirees/var/event_access
URL:https://benefits.smc-hr.org/events/cigna-dental-plans-for-retirees/var/event_access
END:VEVENT
END:VCALENDAR