BEGIN:VCALENDAR
VERSION:2.0
PRODID:-//eventon.com NONSGML v1.0//EN
CALSCALE:GREGORIAN
METHOD:PUBLISH
BEGIN:VEVENT
UID:69e7342931b10
DTSTAMP:20260421T082409Z
DTSTART:20231018T190000Z
DTEND:20231018T193000Z
LOCATION:https://teams.microsoft.com/l/meetup-join/19meeting_M2MyMTA5YTktYWQ2Mi00YmM2LTllOTItYmU3OTYyNzZiNzljthread.v2/0?context=Tid0dfaf635-a04d-48cc-a7e3-6da1af0883f9Oid791ce55b-423a-4cf6-b63f-678549f76a87
SUMMARY:Aetna MAPPO for Retirees
DESCRIPTION:Microsoft Teams meeting Join on your computer\,  mobile app or 
 room device Click here to join the meeting Meeting ID: 235 620 749 63Passco
 de: 78zYLs Download Teams | Join on the web Or call in (audio only) +1 628-
 212-0105\, \, 779114944# &nbsp; United States\,  San Francisco Phone Confer
 ence ID: 779 114 944#[..]\nhttps://benefits.smc-hr.org/events/aetna-mappo-f
 or-retirees/var/event_access
URL:https://benefits.smc-hr.org/events/aetna-mappo-for-retirees/var/event_access
END:VEVENT
END:VCALENDAR