BEGIN:VCALENDAR
VERSION:2.0
PRODID:-//eventon.com NONSGML v1.0//EN
CALSCALE:GREGORIAN
METHOD:PUBLISH
BEGIN:VEVENT
UID:69e7449bc23c5
DTSTAMP:20260421T093419Z
DTSTART:20251030T193000Z
DTEND:20251030T200000Z
LOCATION:https://teams.microsoft.com/meet/2947214232662?p=i6noFF8H3sh4IzovEk
SUMMARY:General and Processing Open Enrollment in Workday
DESCRIPTION:\nhttps://benefits.smc-hr.org/events/general-and-processing-ope
 n-enrollment-in-workday/var/event_access
URL:https://benefits.smc-hr.org/events/general-and-processing-open-enrollment-in-workday/var/event_access
END:VEVENT
END:VCALENDAR