BEGIN:VCALENDAR
VERSION:2.0
PRODID:-//eventon.com NONSGML v1.0//EN
CALSCALE:GREGORIAN
METHOD:PUBLISH
BEGIN:VEVENT
UID:69e733fd5ee5f
DTSTAMP:20260421T082325Z
DTSTART:20251017T190000Z
DTEND:20251017T193000Z
LOCATION:https://teams.microsoft.com/meet/2383703934503?p=DEYDC45wPYakCa4tb0
SUMMARY:VSP: Retiree Benefit Overview
DESCRIPTION:\nhttps://benefits.smc-hr.org/events/vsp-retiree-benefit-overvi
 ew/var/event_access
URL:https://benefits.smc-hr.org/events/vsp-retiree-benefit-overview/var/event_access
END:VEVENT
END:VCALENDAR