BEGIN:VCALENDAR
VERSION:2.0
PRODID:-//eventon.com NONSGML v1.0//EN
CALSCALE:GREGORIAN
METHOD:PUBLISH
BEGIN:VEVENT
UID:69e7342931c78
DTSTAMP:20260421T082409Z
DTSTART:20251016T183000Z
DTEND:20251016T190000Z
LOCATION:https://onemetlife.webex.com/wbxmjs/joinservice/sites/onemetlife/meeting/download/5e09d1eecaa04d56a2545d0f6f26bc2e?siteurl=onemetlife&MTID=m0502e06aeba0bf7369cdfae2f854942b
SUMMARY:MetLife Pet & Legal Overview
DESCRIPTION:\nhttps://benefits.smc-hr.org/events/metlife-pet-legal-overview
 /var/event_access
URL:https://benefits.smc-hr.org/events/metlife-pet-legal-overview/var/event_access
END:VEVENT
END:VCALENDAR